Package: ExpHunterSuite Version: 1.14.0 Command: chmod a+r ExpHunterSuite -R && F:\biocbuild\bbs-3.20-bioc\R\bin\R.exe CMD build --keep-empty-dirs --no-resave-data ExpHunterSuite StartedAt: 2025-02-18 13:06:24 -0500 (Tue, 18 Feb 2025) EndedAt: 2025-02-18 13:10:18 -0500 (Tue, 18 Feb 2025) EllapsedTime: 233.9 seconds RetCode: 0 Status: OK PackageFile: ExpHunterSuite_1.14.0.tar.gz PackageFileSize: 4.111 <A href="http://en.wikipedia.org/wiki/MiB" target="_blank">MiB</A>