Package: ExpHunterSuite
Version: 1.13.0
Command: F:\biocbuild\bbs-3.20-bioc\R\bin\R.exe CMD INSTALL ExpHunterSuite
StartedAt: 2024-06-14 13:05:25 -0400 (Fri, 14 Jun 2024)
EndedAt: 2024-06-14 13:08:53 -0400 (Fri, 14 Jun 2024)
EllapsedTime: 208.1 seconds
RetCode: 0
Status: OK