##############################################################################
##############################################################################
###
### Running command:
###
###   chmod a+r ExpHunterSuite -R && F:\biocbuild\bbs-3.20-bioc\R\bin\R.exe CMD build --keep-empty-dirs --no-resave-data ExpHunterSuite
###
##############################################################################
##############################################################################


* checking for file 'ExpHunterSuite/DESCRIPTION' ... OK
* preparing 'ExpHunterSuite':
* checking DESCRIPTION meta-information ... OK
* installing the package to build vignettes
* creating vignettes ... OK
* checking for LF line-endings in source and make files and shell scripts
* checking for empty or unneeded directories
* building 'ExpHunterSuite_1.13.0.tar.gz'