Package: ExpHunterSuite Version: 1.14.0 Command: /home/biocbuild/bbs-3.20-bioc/R/bin/R CMD INSTALL ExpHunterSuite StartedAt: 2025-02-18 13:01:04 -0500 (Tue, 18 Feb 2025) EndedAt: 2025-02-18 13:02:08 -0500 (Tue, 18 Feb 2025) EllapsedTime: 64.0 seconds RetCode: 0 Status: OK