Package: EGSEA123 Version: 1.30.0 Command: /home/biocbuild/bbs-3.20-bioc/R/bin/R CMD build --keep-empty-dirs --no-resave-data EGSEA123 StartedAt: 2025-02-04 13:04:25 -0500 (Tue, 04 Feb 2025) EndedAt: 2025-02-04 13:09:59 -0500 (Tue, 04 Feb 2025) EllapsedTime: 334.2 seconds RetCode: 0 Status: OK PackageFile: EGSEA123_1.30.0.tar.gz PackageFileSize: 1.906 MiB