Package: EGSEA123 Version: 1.30.0 Command: /Library/Frameworks/R.framework/Resources/bin/R CMD INSTALL EGSEA123 StartedAt: 2024-11-15 13:00:42 -0500 (Fri, 15 Nov 2024) EndedAt: 2024-11-15 13:01:09 -0500 (Fri, 15 Nov 2024) EllapsedTime: 27.2 seconds RetCode: 0 Status: OK