Package: BiocMetaWorkflow
Version: 1.27.0
Command: C:\Users\biocbuild\bbs-3.20-bioc\R\bin\R.exe CMD INSTALL BiocMetaWorkflow
StartedAt: 2024-07-09 13:01:02 -0400 (Tue, 09 Jul 2024)
EndedAt: 2024-07-09 13:01:06 -0400 (Tue, 09 Jul 2024)
EllapsedTime: 3.3 seconds
RetCode: 0
Status: OK