Package: BiocMetaWorkflow
Version: 1.27.0
Command: chmod a+r BiocMetaWorkflow -R && C:\Users\biocbuild\bbs-3.20-bioc\R\bin\R.exe CMD build --keep-empty-dirs --no-resave-data BiocMetaWorkflow
StartedAt: 2024-07-09 13:06:44 -0400 (Tue, 09 Jul 2024)
EndedAt: 2024-07-09 13:07:01 -0400 (Tue, 09 Jul 2024)
EllapsedTime: 17.8 seconds
RetCode: 0
Status: OK
PackageFile: BiocMetaWorkflow_1.27.0.tar.gz
PackageFileSize: 401.3 <A href="http://en.wikipedia.org/wiki/KiB" target="_blank">KiB</A>