Package: BiocMetaWorkflow
Version: 1.28.0
Command: /home/biocbuild/bbs-3.20-bioc/R/bin/R CMD INSTALL BiocMetaWorkflow
StartedAt: 2025-02-18 13:00:13 -0500 (Tue, 18 Feb 2025)
EndedAt: 2025-02-18 13:00:17 -0500 (Tue, 18 Feb 2025)
EllapsedTime: 4.4 seconds
RetCode: 0
Status: OK