##############################################################################
##############################################################################
###
### Running command:
###
###   /home/biocbuild/bbs-3.20-bioc/R/bin/R CMD build --keep-empty-dirs --no-resave-data BiocMetaWorkflow
###
##############################################################################
##############################################################################


* checking for file ‘BiocMetaWorkflow/DESCRIPTION’ ... OK
* preparing ‘BiocMetaWorkflow’:
* checking DESCRIPTION meta-information ... OK
* installing the package to build vignettes
* creating vignettes ... OK
* checking for LF line-endings in source and make files and shell scripts
* checking for empty or unneeded directories
* creating default NAMESPACE file
* building ‘BiocMetaWorkflow_1.28.0.tar.gz’