Package: BiocMetaWorkflow
Version: 1.28.0
Command: /Library/Frameworks/R.framework/Resources/bin/R CMD INSTALL BiocMetaWorkflow
StartedAt: 2025-02-18 13:00:22 -0500 (Tue, 18 Feb 2025)
EndedAt: 2025-02-18 13:00:37 -0500 (Tue, 18 Feb 2025)
EllapsedTime: 15.0 seconds
RetCode: 0
Status: OK