Package: BiocMetaWorkflow
Version: 1.28.0
Command: /Library/Frameworks/R.framework/Resources/bin/R CMD build --keep-empty-dirs --no-resave-data BiocMetaWorkflow
StartedAt: 2025-02-18 13:10:18 -0500 (Tue, 18 Feb 2025)
EndedAt: 2025-02-18 13:10:51 -0500 (Tue, 18 Feb 2025)
EllapsedTime: 32.6 seconds
RetCode: 0
Status: OK
PackageFile: BiocMetaWorkflow_1.28.0.tar.gz
PackageFileSize: 401.2 <A href="http://en.wikipedia.org/wiki/KiB" target="_blank">KiB</A>