Package: BiocMetaWorkflow
Version: 1.28.0
Command: /Library/Frameworks/R.framework/Resources/bin/R CMD build --keep-empty-dirs --no-resave-data BiocMetaWorkflow
StartedAt: 2024-11-15 13:03:59 -0500 (Fri, 15 Nov 2024)
EndedAt: 2024-11-15 13:04:11 -0500 (Fri, 15 Nov 2024)
EllapsedTime: 12.5 seconds
RetCode: 0
Status: OK
PackageFile: BiocMetaWorkflow_1.28.0.tar.gz
PackageFileSize: 401.2 <A href="http://en.wikipedia.org/wiki/KiB" target="_blank">KiB</A>