Package: synaptome.db
Version: 0.99.16
Maintainer: Oksana Sorokina
MaintainerEmail: oksana.sorokina at ed.ac.uk
git_url: https://git.bioconductor.org/packages/synaptome.db
git_branch: RELEASE_3_20
git_last_commit: 4f403fd
git_last_commit_date: 2023-12-06 21:17:41 -0500 (Wed, 06 Dec 2023)