Package: metaboliteIDmapping
Version: 0.99.10
Maintainer: Sebastian Canzler
MaintainerEmail: sebastian.canzler at ufz.de
git_url: https://git.bioconductor.org/packages/metaboliteIDmapping
git_branch: RELEASE_3_20
git_last_commit: 97d7d72
git_last_commit_date: 2021-05-10 03:06:59 -0500 (Mon, 10 May 2021)