Package: gwascatData
Version: 0.99.6
Command: /home/biocbuild/bbs-3.20-bioc/R/bin/R CMD INSTALL gwascatData
StartedAt: 2025-02-19 06:30:08 -0500 (Wed, 19 Feb 2025)
EndedAt: 2025-02-19 06:30:10 -0500 (Wed, 19 Feb 2025)
EllapsedTime: 2.7 seconds
RetCode: 0
Status: OK