Package: gwascatData
Version: 0.99.6
Command: /home/biocbuild/bbs-3.20-bioc/R/bin/R CMD check --install=check:gwascatData.install-out.txt --library=/home/biocbuild/bbs-3.20-bioc/R/site-library --timings gwascatData_0.99.6.tar.gz
StartedAt: 2025-02-19 06:33:58 -0500 (Wed, 19 Feb 2025)
EndedAt: 2025-02-19 06:34:27 -0500 (Wed, 19 Feb 2025)
EllapsedTime: 29.1 seconds
RetCode: 1
Status: ERROR
CheckDir: gwascatData.Rcheck
Warnings: NA