Package: gwascatData Version: 0.99.6 Command: /home/biocbuild/bbs-3.20-bioc/R/bin/R CMD build --keep-empty-dirs --no-resave-data gwascatData StartedAt: 2025-02-19 06:31:34 -0500 (Wed, 19 Feb 2025) EndedAt: 2025-02-19 06:31:53 -0500 (Wed, 19 Feb 2025) EllapsedTime: 19.3 seconds RetCode: 0 Status: OK PackageFile: gwascatData_0.99.6.tar.gz PackageFileSize: 110.2 <A href="http://en.wikipedia.org/wiki/KiB" target="_blank">KiB</A>