Package: cadd.v1.6.hg38 Version: 3.18.1 Command: /home/biocbuild/bbs-3.20-bioc/R/bin/R CMD INSTALL cadd.v1.6.hg38 StartedAt: 2025-02-19 06:30:27 -0500 (Wed, 19 Feb 2025) EndedAt: 2025-02-19 06:30:43 -0500 (Wed, 19 Feb 2025) EllapsedTime: 16.6 seconds RetCode: 0 Status: OK