Package: cadd.v1.6.hg38
Version: 3.18.1
Command: /home/biocbuild/bbs-3.20-bioc/R/bin/R CMD check --install=check:cadd.v1.6.hg38.install-out.txt --library=/home/biocbuild/bbs-3.20-bioc/R/site-library --timings cadd.v1.6.hg38_3.18.1.tar.gz
StartedAt: 2025-02-19 06:33:31 -0500 (Wed, 19 Feb 2025)
EndedAt: 2025-02-19 06:35:18 -0500 (Wed, 19 Feb 2025)
EllapsedTime: 106.6 seconds
RetCode: 0
Status: OK
CheckDir: cadd.v1.6.hg38.Rcheck
Warnings: 0