Package: cadd.v1.6.hg38
Version: 3.18.1
Command: /home/biocbuild/bbs-3.20-bioc/R/bin/R CMD build --keep-empty-dirs --no-resave-data cadd.v1.6.hg38
StartedAt: 2025-02-19 06:31:11 -0500 (Wed, 19 Feb 2025)
EndedAt: 2025-02-19 06:32:03 -0500 (Wed, 19 Feb 2025)
EllapsedTime: 52.2 seconds
RetCode: 0
Status: OK
PackageFile: cadd.v1.6.hg38_3.18.1.tar.gz
PackageFileSize: 299.6 <A href="http://en.wikipedia.org/wiki/KiB" target="_blank">KiB</A>