Package: TENET.AnnotationHub
Version: 0.99.4
Maintainer: Rhie Lab at the University of Southern California
MaintainerEmail: rhielab at gmail.com
git_url: https://git.bioconductor.org/packages/TENET.AnnotationHub
git_branch: RELEASE_3_20
git_last_commit: b71884d
git_last_commit_date: 2024-10-15 20:03:09 -0500 (Tue, 15 Oct 2024)