Package: JASPAR2024
Version: 0.99.6
Maintainer: Damir Baranasic
MaintainerEmail: damir.baranasic at lms.mrc.ac.uk
git_url: https://git.bioconductor.org/packages/JASPAR2024
git_branch: RELEASE_3_20
git_last_commit: 524c83e
git_last_commit_date: 2023-10-17 06:51:51 -0500 (Tue, 17 Oct 2023)