Package: HPO.db
Version: 0.99.2
Maintainer: Erqiang Hu
MaintainerEmail: 13766876214 at 163.com
git_url: https://git.bioconductor.org/packages/HPO.db
git_branch: RELEASE_3_20
git_last_commit: 72ed6ba
git_last_commit_date: 2023-06-22 23:53:29 -0500 (Thu, 22 Jun 2023)