Package: GeneSummary
Version: 0.99.6
Maintainer: Zuguang Gu
MaintainerEmail: z.gu at dkfz.de
git_url: https://git.bioconductor.org/packages/GeneSummary
git_branch: RELEASE_3_20
git_last_commit: 4ac4046
git_last_commit_date: 2023-09-23 07:32:03 -0500 (Sat, 23 Sep 2023)