Package: AHEnsDbs
Version: 1.6.0
Maintainer: Johannes Rainer
MaintainerEmail: johannes.rainer at eurac.edu
git_url: https://git.bioconductor.org/packages/AHEnsDbs
git_branch: RELEASE_3_20
git_last_commit: 5ef7365
git_last_commit_date: 2024-11-08 02:13:50 -0500 (Fri, 08 Nov 2024)