Package: cytofWorkflow
Version: 1.28.0
Command: chmod a+r cytofWorkflow -R && E:\biocbuild\bbs-3.19-bioc\R\bin\R.exe CMD build --keep-empty-dirs --no-resave-data cytofWorkflow
StartedAt: 2024-10-18 13:05:00 -0400 (Fri, 18 Oct 2024)
EndedAt: 2024-10-18 13:12:32 -0400 (Fri, 18 Oct 2024)
EllapsedTime: 452.1 seconds
RetCode: 0
Status: OK
PackageFile: cytofWorkflow_1.28.0.tar.gz
PackageFileSize: 2.527 <A href="http://en.wikipedia.org/wiki/MiB" target="_blank">MiB</A>