##############################################################################
##############################################################################
###
### Running command:
###
###   F:\biocbuild\bbs-3.19-bioc\R\bin\R.exe CMD INSTALL cytofWorkflow
###
##############################################################################
##############################################################################


* installing to library 'F:/biocbuild/bbs-3.19-bioc/R/library'
* installing *source* package 'cytofWorkflow' ...
** using staged installation
** help
No man pages found in package  'cytofWorkflow' 
*** installing help indices
** building package indices
** installing vignettes
** testing if installed package can be loaded from temporary location
Warning: replacing previous import 'pheatmap::pheatmap' by 'ComplexHeatmap::pheatmap' when loading 'cytofWorkflow'
** testing if installed package can be loaded from final location
Warning: replacing previous import 'pheatmap::pheatmap' by 'ComplexHeatmap::pheatmap' when loading 'cytofWorkflow'
** testing if installed package keeps a record of temporary installation path
* DONE (cytofWorkflow)