Package: cytofWorkflow
Version: 1.28.0
Command: chmod a+r cytofWorkflow -R && F:\biocbuild\bbs-3.19-bioc\R\bin\R.exe CMD build --keep-empty-dirs --no-resave-data cytofWorkflow
StartedAt: 2024-06-28 13:05:50 -0400 (Fri, 28 Jun 2024)
EndedAt: 2024-06-28 13:13:56 -0400 (Fri, 28 Jun 2024)
EllapsedTime: 486.0 seconds
RetCode: 0
Status: OK
PackageFile: cytofWorkflow_1.28.0.tar.gz
PackageFileSize: 2.526 <A href="http://en.wikipedia.org/wiki/MiB" target="_blank">MiB</A>