Package: chipseqDB
Version: 1.28.0
Maintainer: Aaron Lun
MaintainerEmail: infinite.monkeys.with.keyboards at gmail.com
git_url: https://git.bioconductor.org/packages/chipseqDB
git_branch: RELEASE_3_19
git_last_commit: 2ef1992
git_last_commit_date: 2024-04-30 10:12:57 -0400 (Tue, 30 Apr 2024)