Package: EGSEA123
Version: 1.28.0
Maintainer: Matthew Ritchie
MaintainerEmail: mritchie at wehi.edu.au
git_url: https://git.bioconductor.org/packages/EGSEA123
git_branch: RELEASE_3_19
git_last_commit: 13ed0bf
git_last_commit_date: 2024-04-30 10:13:03 -0400 (Tue, 30 Apr 2024)