Package: xcoredata Version: 1.8.0 Command: /home/biocbuild/bbs-3.19-bioc/R/bin/R CMD build --keep-empty-dirs --no-resave-data xcoredata StartedAt: 2024-10-17 10:59:37 -0400 (Thu, 17 Oct 2024) EndedAt: 2024-10-17 11:01:53 -0400 (Thu, 17 Oct 2024) EllapsedTime: 135.8 seconds RetCode: 0 Status: OK PackageFile: xcoredata_1.8.0.tar.gz PackageFileSize: 1.332 MiB