Package: chromstaRData Version: 1.30.0 Command: /home/biocbuild/bbs-3.19-bioc/R/bin/R CMD build --keep-empty-dirs --no-resave-data chromstaRData StartedAt: 2024-10-17 10:16:07 -0400 (Thu, 17 Oct 2024) EndedAt: 2024-10-17 10:16:20 -0400 (Thu, 17 Oct 2024) EllapsedTime: 13.1 seconds RetCode: 0 Status: OK PackageFile: chromstaRData_1.30.0.tar.gz PackageFileSize: 140.2 MiB