Package: WeberDivechaLCdata Version: 1.6.0 Command: /home/biocbuild/bbs-3.19-bioc/R/bin/R CMD build --keep-empty-dirs --no-resave-data WeberDivechaLCdata StartedAt: 2024-10-17 10:59:30 -0400 (Thu, 17 Oct 2024) EndedAt: 2024-10-17 11:01:14 -0400 (Thu, 17 Oct 2024) EllapsedTime: 104.3 seconds RetCode: 0 Status: OK PackageFile: WeberDivechaLCdata_1.6.0.tar.gz PackageFileSize: 223.6 KiB