Package: HighlyReplicatedRNASeq Version: 1.16.0 Command: /home/biocbuild/bbs-3.19-bioc/R/bin/R CMD INSTALL HighlyReplicatedRNASeq StartedAt: 2024-10-17 10:07:04 -0400 (Thu, 17 Oct 2024) EndedAt: 2024-10-17 10:07:29 -0400 (Thu, 17 Oct 2024) EllapsedTime: 25.3 seconds RetCode: 0 Status: OK