Package: zellkonverter
Version: 1.14.1
Maintainer: Luke Zappia
MaintainerEmail: luke at lazappi.id.au
git_url: https://git.bioconductor.org/packages/zellkonverter
git_branch: RELEASE_3_19
git_last_commit: c90c58a
git_last_commit_date: 2024-06-21 04:52:52 -0400 (Fri, 21 Jun 2024)