Package: vsn Version: 3.72.0 Command: /home/biocbuild/bbs-3.19-bioc/R/bin/R CMD build --keep-empty-dirs --no-resave-data vsn StartedAt: 2024-10-16 21:20:38 -0400 (Wed, 16 Oct 2024) EndedAt: 2024-10-16 21:21:20 -0400 (Wed, 16 Oct 2024) EllapsedTime: 41.1 seconds RetCode: 0 Status: OK PackageFile: vsn_3.72.0.tar.gz PackageFileSize: 1.759 <A href="http://en.wikipedia.org/wiki/MiB" target="_blank">MiB</A>