Package: vsclust
Version: 1.6.0
Command: /home/biocbuild/bbs-3.19-bioc/R/bin/R CMD INSTALL vsclust
StartedAt: 2024-10-16 16:18:11 -0400 (Wed, 16 Oct 2024)
EndedAt: 2024-10-16 16:18:44 -0400 (Wed, 16 Oct 2024)
EllapsedTime: 32.5 seconds
RetCode: 0
Status: OK