Package: vsclust
Version: 1.6.0
Command: rm -rf vsclust.buildbin-libdir && mkdir vsclust.buildbin-libdir && /Users/biocbuild/BBS/utils/build-universal.sh vsclust_1.6.0.tar.gz /Library/Frameworks/R.framework/Resources/bin/R vsclust.buildbin-libdir
StartedAt: 2024-10-17 17:26:38 -0400 (Thu, 17 Oct 2024)
EndedAt: 2024-10-17 17:28:33 -0400 (Thu, 17 Oct 2024)
EllapsedTime: 115.0 seconds
RetCode: 0
Status: OK
PackageFile: vsclust_1.6.0.tgz
PackageFileSize: 3.835 <A href="http://en.wikipedia.org/wiki/MiB" target="_blank">MiB</A>