Package: vsclust
Version: 1.6.0
Command: /Library/Frameworks/R.framework/Resources/bin/R CMD INSTALL vsclust
StartedAt: 2024-06-09 16:18:50 -0400 (Sun, 09 Jun 2024)
EndedAt: 2024-06-09 16:19:37 -0400 (Sun, 09 Jun 2024)
EllapsedTime: 47.7 seconds
RetCode: 0
Status: OK