Package: vsclust
Version: 1.6.0
Command: /Library/Frameworks/R.framework/Resources/bin/R CMD build --keep-empty-dirs --no-resave-data vsclust
StartedAt: 2024-06-10 06:32:58 -0400 (Mon, 10 Jun 2024)
EndedAt: 2024-06-10 06:35:39 -0400 (Mon, 10 Jun 2024)
EllapsedTime: 161.2 seconds
RetCode: 0
Status: OK
PackageFile: vsclust_1.6.0.tar.gz
PackageFileSize: 3.714 <A href="http://en.wikipedia.org/wiki/MiB" target="_blank">MiB</A>