Package: vidger
Version: 1.24.0
Command: F:\biocbuild\bbs-3.19-bioc\R\bin\R.exe CMD INSTALL vidger
StartedAt: 2024-06-26 16:19:44 -0400 (Wed, 26 Jun 2024)
EndedAt: 2024-06-26 16:20:32 -0400 (Wed, 26 Jun 2024)
EllapsedTime: 47.7 seconds
RetCode: 0
Status: OK