Package: vidger
Version: 1.24.0
Command: F:\biocbuild\bbs-3.19-bioc\R\bin\R.exe CMD check --no-multiarch --install=check:vidger.install-out.txt --library=F:\biocbuild\bbs-3.19-bioc\R\library --no-vignettes --timings vidger_1.24.0.tar.gz
StartedAt: 2024-06-27 07:18:39 -0400 (Thu, 27 Jun 2024)
EndedAt: 2024-06-27 07:23:42 -0400 (Thu, 27 Jun 2024)
EllapsedTime: 303.5 seconds
RetCode: 0
Status: OK
CheckDir: vidger.Rcheck
Warnings: 0