Package: vidger
Version: 1.24.0
Command: chmod a+r vidger -R && F:\biocbuild\bbs-3.19-bioc\R\bin\R.exe CMD build --keep-empty-dirs --no-resave-data vidger
StartedAt: 2024-06-26 22:33:04 -0400 (Wed, 26 Jun 2024)
EndedAt: 2024-06-26 22:35:36 -0400 (Wed, 26 Jun 2024)
EllapsedTime: 152.3 seconds
RetCode: 0
Status: OK
PackageFile: vidger_1.24.0.tar.gz
PackageFileSize: 5.235 <A href="http://en.wikipedia.org/wiki/MiB" target="_blank">MiB</A>