Package: vidger
Version: 1.24.0
Command: rm -rf vidger.buildbin-libdir && mkdir vidger.buildbin-libdir && /Users/biocbuild/BBS/utils/build-universal.sh vidger_1.24.0.tar.gz /Library/Frameworks/R.framework/Resources/bin/R vidger.buildbin-libdir
StartedAt: 2024-06-10 00:45:16 -0400 (Mon, 10 Jun 2024)
EndedAt: 2024-06-10 00:46:06 -0400 (Mon, 10 Jun 2024)
EllapsedTime: 50.3 seconds
RetCode: 0
Status: OK
PackageFile: vidger_1.24.0.tgz
PackageFileSize: 8.953 <A href="http://en.wikipedia.org/wiki/MiB" target="_blank">MiB</A>