Package: vidger
Version: 1.24.0
Command: /home/biocbuild/R/R-beta-2024-04-15_r86425/bin/R CMD check --install=check:vidger.install-out.txt --library=/home/biocbuild/R/R-beta-2024-04-15_r86425/site-library --no-vignettes --timings vidger_1.24.0.tar.gz
StartedAt: 2024-05-08 13:05:26 -0000 (Wed, 08 May 2024)
EndedAt: 2024-05-08 13:10:29 -0000 (Wed, 08 May 2024)
EllapsedTime: 302.5 seconds
RetCode: 0
Status: OK
CheckDir: vidger.Rcheck
Warnings: 0