Package: variancePartition
Version: 1.34.0
Command: rm -rf variancePartition.buildbin-libdir && mkdir variancePartition.buildbin-libdir && F:\biocbuild\bbs-3.19-bioc\R\bin\R.exe CMD INSTALL --build --library=variancePartition.buildbin-libdir variancePartition_1.34.0.tar.gz
StartedAt: 2024-06-27 09:05:24 -0400 (Thu, 27 Jun 2024)
EndedAt: 2024-06-27 09:05:53 -0400 (Thu, 27 Jun 2024)
EllapsedTime: 29.0 seconds
RetCode: 0
Status: OK
PackageFile: variancePartition_1.34.0.zip
PackageFileSize: 4.012 <A href="http://en.wikipedia.org/wiki/MiB" target="_blank">MiB</A>