Package: variancePartition
Version: 1.34.0
Command: /home/biocbuild/R/R-beta-2024-04-15_r86425/bin/R CMD check --install=check:variancePartition.install-out.txt --library=/home/biocbuild/R/R-beta-2024-04-15_r86425/site-library --no-vignettes --timings variancePartition_1.34.0.tar.gz
StartedAt: 2024-05-08 13:00:52 -0000 (Wed, 08 May 2024)
EndedAt: 2024-05-08 13:11:25 -0000 (Wed, 08 May 2024)
EllapsedTime: 633.1 seconds
RetCode: 0
Status: OK
CheckDir: variancePartition.Rcheck
Warnings: 0