Package: variancePartition
Version: 1.34.0
Command: /home/biocbuild/R/R-beta-2024-04-15_r86425/bin/R CMD build --keep-empty-dirs --no-resave-data variancePartition
StartedAt: 2024-05-09 04:17:31 -0000 (Thu, 09 May 2024)
EndedAt: 2024-05-09 04:33:28 -0000 (Thu, 09 May 2024)
EllapsedTime: 957.3 seconds
RetCode: 0
Status: OK
PackageFile: variancePartition_1.34.0.tar.gz
PackageFileSize: 4.083 <A href="http://en.wikipedia.org/wiki/MiB" target="_blank">MiB</A>