Package: uncoverappLib
Version: 1.14.0
Maintainer: Emanuela Iovino
MaintainerEmail: emanuela.iovino at unibo.it
git_url: https://git.bioconductor.org/packages/uncoverappLib
git_branch: RELEASE_3_19
git_last_commit: 0f56835
git_last_commit_date: 2024-04-30 11:25:57 -0400 (Tue, 30 Apr 2024)